BEGIN:VCALENDAR
VERSION:2.0
PRODID:-//The Commons - ECPv6.15.20//NONSGML v1.0//EN
CALSCALE:GREGORIAN
METHOD:PUBLISH
X-WR-CALNAME:The Commons
X-ORIGINAL-URL:https://thecommonscolumbus.com
X-WR-CALDESC:Events for The Commons
REFRESH-INTERVAL;VALUE=DURATION:PT1H
X-Robots-Tag:noindex
X-PUBLISHED-TTL:PT1H
BEGIN:VTIMEZONE
TZID:America/Indiana/Indianapolis
BEGIN:DAYLIGHT
TZOFFSETFROM:-0500
TZOFFSETTO:-0400
TZNAME:EDT
DTSTART:20180311T070000
END:DAYLIGHT
BEGIN:STANDARD
TZOFFSETFROM:-0400
TZOFFSETTO:-0500
TZNAME:EST
DTSTART:20181104T060000
END:STANDARD
BEGIN:DAYLIGHT
TZOFFSETFROM:-0500
TZOFFSETTO:-0400
TZNAME:EDT
DTSTART:20190310T070000
END:DAYLIGHT
BEGIN:STANDARD
TZOFFSETFROM:-0400
TZOFFSETTO:-0500
TZNAME:EST
DTSTART:20191103T060000
END:STANDARD
BEGIN:DAYLIGHT
TZOFFSETFROM:-0500
TZOFFSETTO:-0400
TZNAME:EDT
DTSTART:20200308T070000
END:DAYLIGHT
BEGIN:STANDARD
TZOFFSETFROM:-0400
TZOFFSETTO:-0500
TZNAME:EST
DTSTART:20201101T060000
END:STANDARD
END:VTIMEZONE
BEGIN:VEVENT
DTSTART;TZID=America/Indiana/Indianapolis:20191021T090000
DTEND;TZID=America/Indiana/Indianapolis:20191021T150000
DTSTAMP:20260421T200454
CREATED:20190923T125857Z
LAST-MODIFIED:20190923T125857Z
UID:893-1571648400-1571670000@thecommonscolumbus.com
SUMMARY:American Red Cross Blood Drive
DESCRIPTION:American Red Cross Blood Drive\nMonday\, October 21\, 2019\nMiller-Tangeman Upper Lobby\n9:00 AM – 3:00 PM\nInformation:  https://www.redcrossblood.org/give.html/donation-time
URL:https://thecommonscolumbus.com/event/american-red-cross-blood-drive-4/
CATEGORIES:Free
END:VEVENT
END:VCALENDAR