BEGIN:VCALENDAR
VERSION:2.0
PRODID:-//The Commons - ECPv6.15.20//NONSGML v1.0//EN
CALSCALE:GREGORIAN
METHOD:PUBLISH
X-WR-CALNAME:The Commons
X-ORIGINAL-URL:https://thecommonscolumbus.com
X-WR-CALDESC:Events for The Commons
REFRESH-INTERVAL;VALUE=DURATION:PT1H
X-Robots-Tag:noindex
X-PUBLISHED-TTL:PT1H
BEGIN:VTIMEZONE
TZID:America/Indiana/Indianapolis
BEGIN:DAYLIGHT
TZOFFSETFROM:-0500
TZOFFSETTO:-0400
TZNAME:EDT
DTSTART:20200308T070000
END:DAYLIGHT
BEGIN:STANDARD
TZOFFSETFROM:-0400
TZOFFSETTO:-0500
TZNAME:EST
DTSTART:20201101T060000
END:STANDARD
BEGIN:DAYLIGHT
TZOFFSETFROM:-0500
TZOFFSETTO:-0400
TZNAME:EDT
DTSTART:20210314T070000
END:DAYLIGHT
BEGIN:STANDARD
TZOFFSETFROM:-0400
TZOFFSETTO:-0500
TZNAME:EST
DTSTART:20211107T060000
END:STANDARD
BEGIN:DAYLIGHT
TZOFFSETFROM:-0500
TZOFFSETTO:-0400
TZNAME:EDT
DTSTART:20220313T070000
END:DAYLIGHT
BEGIN:STANDARD
TZOFFSETFROM:-0400
TZOFFSETTO:-0500
TZNAME:EST
DTSTART:20221106T060000
END:STANDARD
END:VTIMEZONE
BEGIN:VEVENT
DTSTART;TZID=America/Indiana/Indianapolis:20210214T100000
DTEND;TZID=America/Indiana/Indianapolis:20210214T110000
DTSTAMP:20260423T211802
CREATED:20210210T155459Z
LAST-MODIFIED:20210210T155459Z
UID:1169-1613296800-1613300400@thecommonscolumbus.com
SUMMARY:Athens Virtual Church Service
DESCRIPTION:Athens Virtual Church Service\nMiller-Tangeman Upper Lobby\nSunday\, February 14\, 2021\n10:00am-11:00am\nThis event is private.
URL:https://thecommonscolumbus.com/event/athens-virtual-church-service-4/
CATEGORIES:Private Event
END:VEVENT
END:VCALENDAR