BEGIN:VCALENDAR
VERSION:2.0
PRODID:-//The Commons - ECPv6.15.20//NONSGML v1.0//EN
CALSCALE:GREGORIAN
METHOD:PUBLISH
X-ORIGINAL-URL:https://thecommonscolumbus.com
X-WR-CALDESC:Events for The Commons
REFRESH-INTERVAL;VALUE=DURATION:PT1H
X-Robots-Tag:noindex
X-PUBLISHED-TTL:PT1H
BEGIN:VTIMEZONE
TZID:America/Indiana/Indianapolis
BEGIN:DAYLIGHT
TZOFFSETFROM:-0500
TZOFFSETTO:-0400
TZNAME:EDT
DTSTART:20210314T070000
END:DAYLIGHT
BEGIN:STANDARD
TZOFFSETFROM:-0400
TZOFFSETTO:-0500
TZNAME:EST
DTSTART:20211107T060000
END:STANDARD
BEGIN:DAYLIGHT
TZOFFSETFROM:-0500
TZOFFSETTO:-0400
TZNAME:EDT
DTSTART:20220313T070000
END:DAYLIGHT
BEGIN:STANDARD
TZOFFSETFROM:-0400
TZOFFSETTO:-0500
TZNAME:EST
DTSTART:20221106T060000
END:STANDARD
BEGIN:DAYLIGHT
TZOFFSETFROM:-0500
TZOFFSETTO:-0400
TZNAME:EDT
DTSTART:20230312T070000
END:DAYLIGHT
BEGIN:STANDARD
TZOFFSETFROM:-0400
TZOFFSETTO:-0500
TZNAME:EST
DTSTART:20231105T060000
END:STANDARD
END:VTIMEZONE
BEGIN:VEVENT
DTSTART;TZID=America/Indiana/Indianapolis:20221027T193000
DTEND;TZID=America/Indiana/Indianapolis:20221027T210000
DTSTAMP:20260420T041511
CREATED:20220914T143839Z
LAST-MODIFIED:20220914T143839Z
UID:1601-1666899000-1666904400@thecommonscolumbus.com
SUMMARY:Cabaret at The Commons: Abby Mueller
DESCRIPTION:Cabaret at The Commons: Abby Mueller\nNugent-Custer Performance Hall & Upper Lobby\nThursday\, October 27\, 2022\n7:30PM-9:00PM\nThis is a private event.
URL:https://thecommonscolumbus.com/event/cabaret-at-the-commons-abby-mueller/
CATEGORIES:Private Event
END:VEVENT
BEGIN:VEVENT
DTSTART;TZID=America/Indiana/Indianapolis:20221027T193000
DTEND;TZID=America/Indiana/Indianapolis:20221027T210000
DTSTAMP:20260420T041511
CREATED:20220928T152721Z
LAST-MODIFIED:20220928T152721Z
UID:1615-1666899000-1666904400@thecommonscolumbus.com
SUMMARY:Cabaret at The Commons with Abby Mueller
DESCRIPTION:Cabaret at The Commons with Abby Mueller\nThursday\, October 27\, 2022\nNugent-Custer Performance Hall\n7:30 PM – 9:00 PM\nTickets and information: https://www.thecip.org/events/abby-mueller/
URL:https://thecommonscolumbus.com/event/cabaret-at-the-commons-with-abby-mueller/
CATEGORIES:Ticketed
END:VEVENT
END:VCALENDAR