BEGIN:VCALENDAR
VERSION:2.0
PRODID:-//The Commons - ECPv6.15.20//NONSGML v1.0//EN
CALSCALE:GREGORIAN
METHOD:PUBLISH
X-WR-CALNAME:The Commons
X-ORIGINAL-URL:https://thecommonscolumbus.com
X-WR-CALDESC:Events for The Commons
REFRESH-INTERVAL;VALUE=DURATION:PT1H
X-Robots-Tag:noindex
X-PUBLISHED-TTL:PT1H
BEGIN:VTIMEZONE
TZID:America/Indiana/Indianapolis
BEGIN:DAYLIGHT
TZOFFSETFROM:-0500
TZOFFSETTO:-0400
TZNAME:EDT
DTSTART:20220313T070000
END:DAYLIGHT
BEGIN:STANDARD
TZOFFSETFROM:-0400
TZOFFSETTO:-0500
TZNAME:EST
DTSTART:20221106T060000
END:STANDARD
BEGIN:DAYLIGHT
TZOFFSETFROM:-0500
TZOFFSETTO:-0400
TZNAME:EDT
DTSTART:20230312T070000
END:DAYLIGHT
BEGIN:STANDARD
TZOFFSETFROM:-0400
TZOFFSETTO:-0500
TZNAME:EST
DTSTART:20231105T060000
END:STANDARD
BEGIN:DAYLIGHT
TZOFFSETFROM:-0500
TZOFFSETTO:-0400
TZNAME:EDT
DTSTART:20240310T070000
END:DAYLIGHT
BEGIN:STANDARD
TZOFFSETFROM:-0400
TZOFFSETTO:-0500
TZNAME:EST
DTSTART:20241103T060000
END:STANDARD
END:VTIMEZONE
BEGIN:VEVENT
DTSTART;TZID=America/Indiana/Indianapolis:20230201T160000
DTEND;TZID=America/Indiana/Indianapolis:20230201T170000
DTSTAMP:20260424T055017
CREATED:20230201T132623Z
LAST-MODIFIED:20230201T133303Z
UID:1725-1675267200-1675270800@thecommonscolumbus.com
SUMMARY:African American Historical Exhibit: "And Still We Rise" Opening Ceremony
DESCRIPTION:African American Historical Exhibit: “And Still We Rise” Opening Ceremony\nMiller-Tangeman Lower Lobby\nWednesday\, February 1\, 2023\n4:00PM-5:00PM\nThis event is free to attend.\nFor more information visit: https://www.blackhistorycolumbus.com/events
URL:https://thecommonscolumbus.com/event/african-american-historical-exhibit-and-still-we-rise-opening-ceremony/
CATEGORIES:Free
END:VEVENT
END:VCALENDAR