BEGIN:VCALENDAR
VERSION:2.0
PRODID:-//The Commons - ECPv6.15.20//NONSGML v1.0//EN
CALSCALE:GREGORIAN
METHOD:PUBLISH
X-WR-CALNAME:The Commons
X-ORIGINAL-URL:https://thecommonscolumbus.com
X-WR-CALDESC:Events for The Commons
REFRESH-INTERVAL;VALUE=DURATION:PT1H
X-Robots-Tag:noindex
X-PUBLISHED-TTL:PT1H
BEGIN:VTIMEZONE
TZID:America/Indiana/Indianapolis
BEGIN:DAYLIGHT
TZOFFSETFROM:-0500
TZOFFSETTO:-0400
TZNAME:EDT
DTSTART:20220313T070000
END:DAYLIGHT
BEGIN:STANDARD
TZOFFSETFROM:-0400
TZOFFSETTO:-0500
TZNAME:EST
DTSTART:20221106T060000
END:STANDARD
BEGIN:DAYLIGHT
TZOFFSETFROM:-0500
TZOFFSETTO:-0400
TZNAME:EDT
DTSTART:20230312T070000
END:DAYLIGHT
BEGIN:STANDARD
TZOFFSETFROM:-0400
TZOFFSETTO:-0500
TZNAME:EST
DTSTART:20231105T060000
END:STANDARD
BEGIN:DAYLIGHT
TZOFFSETFROM:-0500
TZOFFSETTO:-0400
TZNAME:EDT
DTSTART:20240310T070000
END:DAYLIGHT
BEGIN:STANDARD
TZOFFSETFROM:-0400
TZOFFSETTO:-0500
TZNAME:EST
DTSTART:20241103T060000
END:STANDARD
END:VTIMEZONE
BEGIN:VEVENT
DTSTART;VALUE=DATE:20230502
DTEND;VALUE=DATE:20230503
DTSTAMP:20260420T042658
CREATED:20230424T203245Z
LAST-MODIFIED:20230424T203245Z
UID:1781-1682985600-1683071999@thecommonscolumbus.com
SUMMARY:Election Day - Office Closed
DESCRIPTION:Election Day\nThe Commons Office is closed and will resume normal business hours on Wednesday\, May 3\, 2023 at 8:00AM.
URL:https://thecommonscolumbus.com/event/election-day-office-closed-2/
END:VEVENT
BEGIN:VEVENT
DTSTART;TZID=America/Indiana/Indianapolis:20230502T190000
DTEND;TZID=America/Indiana/Indianapolis:20230502T200000
DTSTAMP:20260420T042658
CREATED:20230424T203445Z
LAST-MODIFIED:20230424T203445Z
UID:1782-1683054000-1683057600@thecommonscolumbus.com
SUMMARY:Philharmonic Youth Orchestra Invitational
DESCRIPTION:Philharmonic Youth Orchestra Invitational\nNugent-Custer Performance Hall & Upper Lobby\nTuesday\, May 2\, 2023\n7:00PM-8:00PM\nThis is a free event.
URL:https://thecommonscolumbus.com/event/philharmonic-youth-orchestra-invitational/
CATEGORIES:Free
END:VEVENT
END:VCALENDAR