BEGIN:VCALENDAR
VERSION:2.0
PRODID:-//The Commons - ECPv6.15.20//NONSGML v1.0//EN
CALSCALE:GREGORIAN
METHOD:PUBLISH
X-ORIGINAL-URL:https://thecommonscolumbus.com
X-WR-CALDESC:Events for The Commons
REFRESH-INTERVAL;VALUE=DURATION:PT1H
X-Robots-Tag:noindex
X-PUBLISHED-TTL:PT1H
BEGIN:VTIMEZONE
TZID:America/Indiana/Indianapolis
BEGIN:DAYLIGHT
TZOFFSETFROM:-0500
TZOFFSETTO:-0400
TZNAME:EDT
DTSTART:20250309T070000
END:DAYLIGHT
BEGIN:STANDARD
TZOFFSETFROM:-0400
TZOFFSETTO:-0500
TZNAME:EST
DTSTART:20251102T060000
END:STANDARD
BEGIN:DAYLIGHT
TZOFFSETFROM:-0500
TZOFFSETTO:-0400
TZNAME:EDT
DTSTART:20260308T070000
END:DAYLIGHT
BEGIN:STANDARD
TZOFFSETFROM:-0400
TZOFFSETTO:-0500
TZNAME:EST
DTSTART:20261101T060000
END:STANDARD
BEGIN:DAYLIGHT
TZOFFSETFROM:-0500
TZOFFSETTO:-0400
TZNAME:EDT
DTSTART:20270314T070000
END:DAYLIGHT
BEGIN:STANDARD
TZOFFSETFROM:-0400
TZOFFSETTO:-0500
TZNAME:EST
DTSTART:20271107T060000
END:STANDARD
END:VTIMEZONE
BEGIN:VEVENT
DTSTART;TZID=America/Indiana/Indianapolis:20260103T070000
DTEND;TZID=America/Indiana/Indianapolis:20260103T220000
DTSTAMP:20260423T075120
CREATED:20251222T155835Z
LAST-MODIFIED:20251222T155835Z
UID:2615-1767423600-1767477600@thecommonscolumbus.com
SUMMARY:Wedding Reception
DESCRIPTION:Wedding Reception\nSaturday\, January 3\, 2026\nNugent-Custer Performance Hall & Upper Lobby\n7:00 AM – 10:00 PM\nThis is a private event.
URL:https://thecommonscolumbus.com/event/wedding-reception-12/
CATEGORIES:Private Event
END:VEVENT
BEGIN:VEVENT
DTSTART;TZID=America/Indiana/Indianapolis:20260112T110000
DTEND;TZID=America/Indiana/Indianapolis:20260112T133000
DTSTAMP:20260423T075120
CREATED:20251222T160825Z
LAST-MODIFIED:20251222T160825Z
UID:2619-1768215600-1768224600@thecommonscolumbus.com
SUMMARY:MJAI End of Year Luncheon 
DESCRIPTION:MJAI End of Year Luncheon\nMonday\, January 12\, 2026\nNugent-Custer Performance Hall & Upper Lobby\n11:00 AM – 1:30 PM\nThis is a private event.
URL:https://thecommonscolumbus.com/event/mjai-end-of-year-luncheon-2/
CATEGORIES:Private Event
END:VEVENT
BEGIN:VEVENT
DTSTART;TZID=America/Indiana/Indianapolis:20260118T170000
DTEND;TZID=America/Indiana/Indianapolis:20260118T200000
DTSTAMP:20260423T075120
CREATED:20260114T184557Z
LAST-MODIFIED:20260114T184557Z
UID:2629-1768755600-1768766400@thecommonscolumbus.com
SUMMARY:Chick-Fil-A Employee Party
DESCRIPTION:Chick-Fil-A Employee Party\nSunday\, January 18\, 2026\nMiller-Tangeman Upper Lobby\n5:00 PM – 8:00 PM\nThis is a private event.
URL:https://thecommonscolumbus.com/event/chick-fil-a-employee-party/
CATEGORIES:Private Event
END:VEVENT
BEGIN:VEVENT
DTSTART;TZID=America/Indiana/Indianapolis:20260128T130000
DTEND;TZID=America/Indiana/Indianapolis:20260128T200000
DTSTAMP:20260423T075120
CREATED:20251222T163824Z
LAST-MODIFIED:20251222T163824Z
UID:2627-1769605200-1769630400@thecommonscolumbus.com
SUMMARY:CRH Event
DESCRIPTION:CRH Event\nWednesday\, January 28\, 2026\nMiller-Tangeman Upper Lobby\n1:00 PM – 8:00 PM\nThis is a private event.
URL:https://thecommonscolumbus.com/event/crh-event-2/
CATEGORIES:Private Event
END:VEVENT
BEGIN:VEVENT
DTSTART;TZID=America/Indiana/Indianapolis:20260130T070000
DTEND;TZID=America/Indiana/Indianapolis:20260130T220000
DTSTAMP:20260423T075120
CREATED:20251222T162856Z
LAST-MODIFIED:20251222T162856Z
UID:2623-1769756400-1769810400@thecommonscolumbus.com
SUMMARY:Crossroads Association of Realtors Gala 
DESCRIPTION:Crossroads Association of Realtors Gala\nFriday\, January 30\, 2026\nNugent-Custer Performance Hall & Upper Lobby\n7:00 AM – 10:00 PM\nThis is a private event.
URL:https://thecommonscolumbus.com/event/crossroads-association-of-realtors-gala-3/
CATEGORIES:Private Event
END:VEVENT
END:VCALENDAR